BEGIN:VCALENDAR
VERSION:2.0
PRODID:gruene-grossostheim.de
METHOD:PUBLISH
BEGIN:VTIMEZONE
TZID:Europe/Berlin
X-LIC-LOCATION:Europe/Berlin
BEGIN:DAYLIGHT
TZOFFSETFROM:+0100
TZOFFSETTO:+0200
TZNAME:CEST
DTSTART:19700329T020000
RRULE:FREQ=YEARLY;INTERVAL=1;BYDAY=-1SU;BYMONTH=3
END:DAYLIGHT
BEGIN:STANDARD
TZOFFSETFROM:+0200
TZOFFSETTO:+0100
TZNAME:CET
DTSTART:19701025T030000
RRULE:FREQ=YEARLY;INTERVAL=1;BYDAY=-1SU;BYMONTH=10
END:STANDARD
END:VTIMEZONE
BEGIN:VEVENT
UID:2a6d4f547cc0214e67f91e16f59e4ec1@gruene-grossostheim.de
URL;VALUE=URI:https://gruene-grossostheim.de/termine/46-mahnwache-mit-fri
 edensgebet-in-hoesbach/
LOCATION:Hauptstraße in Hösbach - Junge Mitte (ca. 200 m nach Ortsende 
 Goldbach)
SUMMARY:46. Mahnwache mit Friedensgebet in Hösbach
DESCRIPTION;ALTREP="data:text/html,%3Cp%3EWir%20wollen%20sofortigen%20Fri
 eden%20und%20eine%20freie%20und%20demokratische%20Ukraine%2C%20die%20zu%2
 0Europa%20geh%C3%B6rt.%3Cbr%20%2F%3E%0AWir%20unterst%C3%BCtzen%20weiter%2
 0die%20ukrainischen%20Fl%C3%BCchtlinge%2C%20die%20bei%20uns%20Schutz%20su
 chen.%3Cbr%20%2F%3E%0AWir%20stehen%20als%20Friedensbewegung%20f%C3%BCr%20
 einen%20gerechten%20Frieden%20in%20Europa%2C%20f%C3%BCr%20Frieden%20im%20
 Nahen%3Cbr%20%2F%3E%0AOsten%2C%20in%20Afrika%20und%20Asien%20%E2%80%93%20
 f%C3%BCr%20Demokratie%20und%20Menschenw%C3%BCrde%2C%20gegen%20Hass%20und%
 20Hetze%3Cbr%20%2F%3E%0A%3Cbr%20%2F%3E%0AMitwirkende%3A%3Cbr%20%2F%3E%0A%
 3Cbr%20%2F%3E%0AAnsprache%3A%20Natascha%20Grin%2C%20Exil-Russin%2C%20Krie
 gsgegnerin%2C%20S%C3%A4ngerin%3Cbr%20%2F%3E%0AInfos%3A%20https%3A%2F%2Fww
 w.fnp.de%2Ffrankfurt%2Fsie-gibt-der-wut-und-verzweiflung-eine-stimme-9145
 9508.html%3Cbr%20%2F%3E%0A%3Cbr%20%2F%3E%0AFriedensgebet%3A%20Michael%20K
 ornberger%20%28Pastoralreferent%2C%20Pfarreiengem.Maria%20an%20der%20Sonn
 e%29%3Cbr%20%2F%3E%0Azur%20aktuellen%20Situation%20der%20Ukraine%3A%20Mic
 hael%20Bagro%2C%20Kiev%2FAschaffenburg%3Cbr%20%2F%3E%0A%3Cbr%20%2F%3E%0Am
 usikalische%20Beitr%C3%A4ge%3A%20%3Cbr%20%2F%3E%0A-%20Natascha%20Grin%2C%
 20S%C3%A4ngerin%2C%20Exil-Russin%3Cbr%20%2F%3E%0A-%20Achim%20Bayer%20%28T
 rompete%3B%20H%C3%B6-Rottenberg%29%3Cbr%20%2F%3E%0A%3Cbr%20%2F%3E%0ALyris
 che%20Lesung%3A%20%3Cbr%20%2F%3E%0A-%20Roman%20Grafe%3Cbr%20%2F%3E%0A%3Cb
 r%20%2F%3E%0AOrganisation%20und%20Moderation%3A%20Gerhard%20Engel%20%28ve
 rantwortlich%20im%20Sinne%20des%20Presse-%20und%20Veranstaltungsrecht%29%
 3Cbr%20%2F%3E%0A%3C%2Fp%3E":Wir wollen sofortigen Frieden und eine freie 
 und demokratische Ukraine\, die zu Europa gehört.\n\nWir unterstützen w
 eiter die ukrainischen Flüchtlinge\, die bei uns Schutz suchen.\n\nWir s
 tehen als Friedensbewegung für einen gerechten Frieden in Europa\, für 
 Frieden im Nahen\n\nOsten\, in Afrika und Asien – für Demokratie und M
 enschenwürde\, gegen Hass und Hetze\n\nMitwirkende:\n\nAnsprache: Natasc
 ha Grin\, Exil-Russin\, Kriegsgegnerin\, Sängerin\n\nInfos: https://www.
 fnp.de/frankfurt/sie-gibt-der-wut-und-verzweiflung-eine-stimme-91459508.h
 tml\n\nFriedensgebet: Michael Kornberger (Pastoralreferent\, Pfarreiengem
 .Maria an der Sonne)\n\nzur aktuellen Situation der Ukraine: Michael Bagr
 o\, Kiev/Aschaffenburg\n\nmusikalische Beiträge:\n\n- Natascha Grin\, S
 ängerin\, Exil-Russin\n\n- Achim Bayer (Trompete\; Hö-Rottenberg)\n\nLy
 rische Lesung:\n\n- Roman Grafe\n\nOrganisation und Moderation: Gerhard E
 ngel (verantwortlich im Sinne des Presse- und Veranstaltungsrecht)
CLASS:PUBLIC
DTSTART;TZID=Europe/Berlin:20260426T170000
DTEND;TZID=Europe/Berlin:20260426T180000
DTSTAMP:20260422T113911
END:VEVENT
END:VCALENDAR